BEGIN:VCALENDAR
VERSION:2.0
PRODID:-//TPS - ECPv6.15.20//NONSGML v1.0//EN
CALSCALE:GREGORIAN
METHOD:PUBLISH
X-ORIGINAL-URL:https://tpseventhire.com.au
X-WR-CALDESC:Events for TPS
REFRESH-INTERVAL;VALUE=DURATION:PT1H
X-Robots-Tag:noindex
X-PUBLISHED-TTL:PT1H
BEGIN:VTIMEZONE
TZID:UTC
BEGIN:STANDARD
TZOFFSETFROM:+0000
TZOFFSETTO:+0000
TZNAME:UTC
DTSTART:20220101T000000
END:STANDARD
END:VTIMEZONE
BEGIN:VEVENT
DTSTART;TZID=UTC:20230710T080000
DTEND;TZID=UTC:20230710T170000
DTSTAMP:20260421T112357
CREATED:20230620T084404Z
LAST-MODIFIED:20230620T084431Z
UID:496-1688976000-1689008400@tpseventhire.com.au
SUMMARY:Lateral transfers
DESCRIPTION:
URL:https://tpseventhire.com.au/event/lateral-transfers/
CATEGORIES:Acute
END:VEVENT
END:VCALENDAR